BEGIN:VCALENDAR
VERSION:2.0
PRODID:-//Urban Alliance - ECPv6.15.20//NONSGML v1.0//EN
CALSCALE:GREGORIAN
METHOD:PUBLISH
X-ORIGINAL-URL:https://urbanalliance.com
X-WR-CALDESC:Events for Urban Alliance
REFRESH-INTERVAL;VALUE=DURATION:PT1H
X-Robots-Tag:noindex
X-PUBLISHED-TTL:PT1H
BEGIN:VTIMEZONE
TZID:America/New_York
BEGIN:DAYLIGHT
TZOFFSETFROM:-0500
TZOFFSETTO:-0400
TZNAME:EDT
DTSTART:20230312T070000
END:DAYLIGHT
BEGIN:STANDARD
TZOFFSETFROM:-0400
TZOFFSETTO:-0500
TZNAME:EST
DTSTART:20231105T060000
END:STANDARD
BEGIN:DAYLIGHT
TZOFFSETFROM:-0500
TZOFFSETTO:-0400
TZNAME:EDT
DTSTART:20240310T070000
END:DAYLIGHT
BEGIN:STANDARD
TZOFFSETFROM:-0400
TZOFFSETTO:-0500
TZNAME:EST
DTSTART:20241103T060000
END:STANDARD
BEGIN:DAYLIGHT
TZOFFSETFROM:-0500
TZOFFSETTO:-0400
TZNAME:EDT
DTSTART:20250309T070000
END:DAYLIGHT
BEGIN:STANDARD
TZOFFSETFROM:-0400
TZOFFSETTO:-0500
TZNAME:EST
DTSTART:20251102T060000
END:STANDARD
END:VTIMEZONE
BEGIN:VEVENT
DTSTART;TZID=America/New_York:20240817T090000
DTEND;TZID=America/New_York:20240817T120000
DTSTAMP:20260423T132928
CREATED:20240614T000953Z
LAST-MODIFIED:20240718T150558Z
UID:10000629-1723885200-1723896000@urbanalliance.com
SUMMARY:Valley Brook Clothing Closet
DESCRIPTION:Open the 3rd Saturday of Each Month \nLocation: Valley Brook Community Church | Ministry House \nThis event is open to the public. \nThe Clothes Closet offers free clothing\, shoes\, and accessories for men\, women\, and children at no cost. The purpose is to help individuals and families in the community who cannot afford to purchase clothing or who have suffered a major loss and are in need. \nVolunteers will be ready to help find sizes\, styles\, colors\, etc. \n*Please note\, the upcoming Clothes Closet will be in a different location on our campus. Follow signs upon arrival for entrance. \nWHERE:\nValley Brook Community Church\n160 Granville Road\nNorth Granby\, CT 06060 \nFOR MORE INFORMATION: \nEmail Donna at clothescloset@valleybrook.cc \n  \n 
URL:https://urbanalliance.com/event/valley-brook-clothing-closet/2024-08-17/
LOCATION:Valley Brook Community Church\, 160 Granville Road\, North Granby\, CT\, 06060
CATEGORIES:Community Event,Public Event,Summer of Hope
ATTACH;FMTTYPE=image/jpeg:https://urbanalliance.com/wp-content/uploads/2024/06/17362371_1560358107325663_7745582291758553601_n-e1721315142771.jpg
END:VEVENT
BEGIN:VEVENT
DTSTART;TZID=America/New_York:20240720T090000
DTEND;TZID=America/New_York:20240720T120000
DTSTAMP:20260423T132928
CREATED:20240614T000953Z
LAST-MODIFIED:20240718T150558Z
UID:10000628-1721466000-1721476800@urbanalliance.com
SUMMARY:Valley Brook Clothing Closet
DESCRIPTION:Open the 3rd Saturday of Each Month \nLocation: Valley Brook Community Church | Ministry House \nThis event is open to the public. \nThe Clothes Closet offers free clothing\, shoes\, and accessories for men\, women\, and children at no cost. The purpose is to help individuals and families in the community who cannot afford to purchase clothing or who have suffered a major loss and are in need. \nVolunteers will be ready to help find sizes\, styles\, colors\, etc. \n*Please note\, the upcoming Clothes Closet will be in a different location on our campus. Follow signs upon arrival for entrance. \nWHERE:\nValley Brook Community Church\n160 Granville Road\nNorth Granby\, CT 06060 \nFOR MORE INFORMATION: \nEmail Donna at clothescloset@valleybrook.cc \n  \n 
URL:https://urbanalliance.com/event/valley-brook-clothing-closet/2024-07-20/
LOCATION:Valley Brook Community Church\, 160 Granville Road\, North Granby\, CT\, 06060
CATEGORIES:Community Event,Public Event,Summer of Hope
ATTACH;FMTTYPE=image/jpeg:https://urbanalliance.com/wp-content/uploads/2024/06/17362371_1560358107325663_7745582291758553601_n-e1721315142771.jpg
END:VEVENT
BEGIN:VEVENT
DTSTART;TZID=America/New_York:20240715T090000
DTEND;TZID=America/New_York:20240719T120000
DTSTAMP:20260423T132928
CREATED:20240620T133159Z
LAST-MODIFIED:20240620T151927Z
UID:10000626-1721034000-1721390400@urbanalliance.com
SUMMARY:VBCC Summer Kid's Camp
DESCRIPTION:Summer Kids Camp\nJuly 15-19 | 9:00 AM – 12:00 PM \nFor Kids: In Grades pre-K – 5 (Ages 4 – 10)\nCost: $25 (Includes T-shirt)\nLocation: Valley Brook Community Church Campus\n160 Granville Road\, North Granby\, CT 06060 \nGet ready for a week of friendship\, games\, Bible lessons\, cool music\, and tons of fun! For this year’s theme we are headed back to Nazareth – where Jesus was a kid! We will get the inside scoop from Mary – Jesus’ mom and spend time where Jesus grew up. Bring a friend and join us! \nQuestions: Email Rob Wutka\, robwutka@valleybrook.cc \n  \n 
URL:https://urbanalliance.com/event/vbcc-summer-kids-camp/
LOCATION:Valley Brook Community Church\, 160 Granville Road\, North Granby\, CT\, 06060
CATEGORIES:Community Event,Public Event,Summer of Hope
ATTACH;FMTTYPE=image/jpeg:https://urbanalliance.com/wp-content/uploads/2024/06/Summer-Camp-UA.jpg
END:VEVENT
BEGIN:VEVENT
DTSTART;TZID=America/New_York:20240615T090000
DTEND;TZID=America/New_York:20240615T120000
DTSTAMP:20260423T132928
CREATED:20240614T000953Z
LAST-MODIFIED:20240718T150558Z
UID:10000627-1718442000-1718452800@urbanalliance.com
SUMMARY:Valley Brook Clothing Closet
DESCRIPTION:Open the 3rd Saturday of Each Month \nLocation: Valley Brook Community Church | Ministry House \nThis event is open to the public. \nThe Clothes Closet offers free clothing\, shoes\, and accessories for men\, women\, and children at no cost. The purpose is to help individuals and families in the community who cannot afford to purchase clothing or who have suffered a major loss and are in need. \nVolunteers will be ready to help find sizes\, styles\, colors\, etc. \n*Please note\, the upcoming Clothes Closet will be in a different location on our campus. Follow signs upon arrival for entrance. \nWHERE:\nValley Brook Community Church\n160 Granville Road\nNorth Granby\, CT 06060 \nFOR MORE INFORMATION: \nEmail Donna at clothescloset@valleybrook.cc \n  \n 
URL:https://urbanalliance.com/event/valley-brook-clothing-closet/2024-06-15/
LOCATION:Valley Brook Community Church\, 160 Granville Road\, North Granby\, CT\, 06060
CATEGORIES:Community Event,Public Event,Summer of Hope
ATTACH;FMTTYPE=image/jpeg:https://urbanalliance.com/wp-content/uploads/2024/06/17362371_1560358107325663_7745582291758553601_n-e1721315142771.jpg
END:VEVENT
END:VCALENDAR