BEGIN:VCALENDAR
VERSION:2.0
PRODID:-//Urban Alliance - ECPv6.15.20//NONSGML v1.0//EN
CALSCALE:GREGORIAN
METHOD:PUBLISH
X-WR-CALNAME:Urban Alliance
X-ORIGINAL-URL:https://urbanalliance.com
X-WR-CALDESC:Events for Urban Alliance
REFRESH-INTERVAL;VALUE=DURATION:PT1H
X-Robots-Tag:noindex
X-PUBLISHED-TTL:PT1H
BEGIN:VTIMEZONE
TZID:America/New_York
BEGIN:DAYLIGHT
TZOFFSETFROM:-0500
TZOFFSETTO:-0400
TZNAME:EDT
DTSTART:20250309T070000
END:DAYLIGHT
BEGIN:STANDARD
TZOFFSETFROM:-0400
TZOFFSETTO:-0500
TZNAME:EST
DTSTART:20251102T060000
END:STANDARD
BEGIN:DAYLIGHT
TZOFFSETFROM:-0500
TZOFFSETTO:-0400
TZNAME:EDT
DTSTART:20260308T070000
END:DAYLIGHT
BEGIN:STANDARD
TZOFFSETFROM:-0400
TZOFFSETTO:-0500
TZNAME:EST
DTSTART:20261101T060000
END:STANDARD
BEGIN:DAYLIGHT
TZOFFSETFROM:-0500
TZOFFSETTO:-0400
TZNAME:EDT
DTSTART:20270314T070000
END:DAYLIGHT
BEGIN:STANDARD
TZOFFSETFROM:-0400
TZOFFSETTO:-0500
TZNAME:EST
DTSTART:20271107T060000
END:STANDARD
BEGIN:DAYLIGHT
TZOFFSETFROM:-0500
TZOFFSETTO:-0400
TZNAME:EDT
DTSTART:20280312T070000
END:DAYLIGHT
BEGIN:STANDARD
TZOFFSETFROM:-0400
TZOFFSETTO:-0500
TZNAME:EST
DTSTART:20281105T060000
END:STANDARD
BEGIN:DAYLIGHT
TZOFFSETFROM:-0500
TZOFFSETTO:-0400
TZNAME:EDT
DTSTART:20290311T070000
END:DAYLIGHT
BEGIN:STANDARD
TZOFFSETFROM:-0400
TZOFFSETTO:-0500
TZNAME:EST
DTSTART:20291104T060000
END:STANDARD
END:VTIMEZONE
BEGIN:VEVENT
DTSTART;TZID=America/New_York:20261106T114500
DTEND;TZID=America/New_York:20261106T131500
DTSTAMP:20260422T084412
CREATED:20230602T171009Z
LAST-MODIFIED:20251211T190648Z
UID:10000305-1793965500-1793970900@urbanalliance.com
SUMMARY:Monthly Professional Counselor Peer Consultation
DESCRIPTION:For more information\, contact Jessica Sanderson.
URL:https://urbanalliance.com/event/monthly-professional-counselor-peer-consultation/2026-11-06/
LOCATION:Urban Alliance\, 62 Village Street\, East Hartford\, CT\, 06108
CATEGORIES:Charis,Public Event,UA Network Event
ATTACH;FMTTYPE=image/jpeg:https://urbanalliance.com/wp-content/uploads/2023/01/UA-Cal-Charis-Counselors.jpg
END:VEVENT
BEGIN:VEVENT
DTSTART;TZID=America/New_York:20261112T114500
DTEND;TZID=America/New_York:20261112T140000
DTSTAMP:20260422T084412
CREATED:20251211T173641Z
LAST-MODIFIED:20251211T173642Z
UID:10000110-1794483900-1794492000@urbanalliance.com
SUMMARY:Micah Pastors Group
DESCRIPTION:The Micah group is a gathering of senior-level pastors who meet regularly to build relationships\, encourage one another\, learn from each other and collaborate around an annual community outreach event.The group opens to new pastors annually in the fall of each year. \nContact Dr. Jessica Sanderson if you would like to attend at jessica.sanderson@urbanalliance.com.
URL:https://urbanalliance.com/event/micah-pastors-group-3/2026-11-12/
LOCATION:Urban Alliance\, 62 Village Street\, East Hartford\, CT\, 06108
CATEGORIES:Micah Group,Public Event,UA Network Event
ATTACH;FMTTYPE=image/jpeg:https://urbanalliance.com/wp-content/uploads/2023/06/Untitled-12.jpeg
END:VEVENT
BEGIN:VEVENT
DTSTART;TZID=America/New_York:20261203T093000
DTEND;TZID=America/New_York:20261203T110000
DTSTAMP:20260422T084412
CREATED:20251202T202225Z
LAST-MODIFIED:20251202T202225Z
UID:10000877-1796290200-1796295600@urbanalliance.com
SUMMARY:Food as Medicine—Supporting Health through Nutrition
DESCRIPTION:Facilitator:Dr. Katie Martin and Dr. Jess Sanderson\nUnderstand how faith communities can promote health and healing by integrating nutrition and compassion into outreach. \n\n\n                \n                        \n                            Event Registration\n                             \n							"*" indicates required fields \n                        \n                        InstagramThis field is for validation purposes and should be left unchanged.Name*\n                            \n                            \n                                                    \n                                                    First\n                                                \n                            \n                            \n                                                    \n                                                    Last\n                                                \n                            \n                        Email*\n                            \n                        Phone*Church / Organization*Stay in Touch\n								\n								I'd like to receive email updates about Urban Alliance news and events\n							Additional Contact InfoName of Your Program/Ministry*Your Mailing Address*    \n                    \n                         \n                                        \n                                        Street Address\n                                    \n                                        \n                                        Address Line 2\n                                    \n                                    \n                                    City\n                                 \n                                        AlabamaAlaskaAmerican SamoaArizonaArkansasCaliforniaColoradoConnecticutDelawareDistrict of ColumbiaFloridaGeorgiaGuamHawaiiIdahoIllinoisIndianaIowaKansasKentuckyLouisianaMaineMarylandMassachusettsMichiganMinnesotaMississippiMissouriMontanaNebraskaNevadaNew HampshireNew JerseyNew MexicoNew YorkNorth CarolinaNorth DakotaNorthern Mariana IslandsOhioOklahomaOregonPennsylvaniaPuerto RicoRhode IslandSouth CarolinaSouth DakotaTennesseeTexasUtahU.S. Virgin IslandsVermontVirginiaWashingtonWest VirginiaWisconsinWyomingArmed Forces AmericasArmed Forces EuropeArmed Forces Pacific\n                                        State\n                                      \n                                    \n                                    ZIP Code\n                                \n                    \n                Group InformationTotal Number of People in Your GroupIncluding youGroup Member NamesOne per line\, pleaseMealsWill you be joining us for the meal(s)?*\n			\n					\n					Yes\n			\n			\n					\n					No\n			List any dietary restrictionsThis field is hidden when viewing the formAdmin Fields
URL:https://urbanalliance.com/event/food-as-medicine-supporting-health-through-nutrition/
LOCATION:Urban Alliance\, 62 Village Street\, East Hartford\, CT\, 06108
CATEGORIES:Learning Community,UA Network Event
ATTACH;FMTTYPE=image/png:https://urbanalliance.com/wp-content/uploads/2025/12/Untitled-8-1.png
END:VEVENT
BEGIN:VEVENT
DTSTART;TZID=America/New_York:20261204T114500
DTEND;TZID=America/New_York:20261204T131500
DTSTAMP:20260422T084412
CREATED:20230602T171009Z
LAST-MODIFIED:20251211T190648Z
UID:10000306-1796384700-1796390100@urbanalliance.com
SUMMARY:Monthly Professional Counselor Peer Consultation
DESCRIPTION:For more information\, contact Jessica Sanderson.
URL:https://urbanalliance.com/event/monthly-professional-counselor-peer-consultation/2026-12-04/
LOCATION:Urban Alliance\, 62 Village Street\, East Hartford\, CT\, 06108
CATEGORIES:Charis,Public Event,UA Network Event
ATTACH;FMTTYPE=image/jpeg:https://urbanalliance.com/wp-content/uploads/2023/01/UA-Cal-Charis-Counselors.jpg
END:VEVENT
BEGIN:VEVENT
DTSTART;TZID=America/New_York:20261210T114500
DTEND;TZID=America/New_York:20261210T140000
DTSTAMP:20260422T084412
CREATED:20251211T173641Z
LAST-MODIFIED:20251211T173642Z
UID:10000111-1796903100-1796911200@urbanalliance.com
SUMMARY:Micah Pastors Group
DESCRIPTION:The Micah group is a gathering of senior-level pastors who meet regularly to build relationships\, encourage one another\, learn from each other and collaborate around an annual community outreach event.The group opens to new pastors annually in the fall of each year. \nContact Dr. Jessica Sanderson if you would like to attend at jessica.sanderson@urbanalliance.com.
URL:https://urbanalliance.com/event/micah-pastors-group-3/2026-12-10/
LOCATION:Urban Alliance\, 62 Village Street\, East Hartford\, CT\, 06108
CATEGORIES:Micah Group,Public Event,UA Network Event
ATTACH;FMTTYPE=image/jpeg:https://urbanalliance.com/wp-content/uploads/2023/06/Untitled-12.jpeg
END:VEVENT
BEGIN:VEVENT
DTSTART;TZID=America/New_York:20270101T114500
DTEND;TZID=America/New_York:20270101T131500
DTSTAMP:20260422T084412
CREATED:20230602T171009Z
LAST-MODIFIED:20251211T190648Z
UID:10000307-1798803900-1798809300@urbanalliance.com
SUMMARY:Monthly Professional Counselor Peer Consultation
DESCRIPTION:For more information\, contact Jessica Sanderson.
URL:https://urbanalliance.com/event/monthly-professional-counselor-peer-consultation/2027-01-01/
LOCATION:Urban Alliance\, 62 Village Street\, East Hartford\, CT\, 06108
CATEGORIES:Charis,Public Event,UA Network Event
ATTACH;FMTTYPE=image/jpeg:https://urbanalliance.com/wp-content/uploads/2023/01/UA-Cal-Charis-Counselors.jpg
END:VEVENT
BEGIN:VEVENT
DTSTART;TZID=America/New_York:20270114T114500
DTEND;TZID=America/New_York:20270114T140000
DTSTAMP:20260422T084412
CREATED:20251211T173641Z
LAST-MODIFIED:20251211T173642Z
UID:10000112-1799927100-1799935200@urbanalliance.com
SUMMARY:Micah Pastors Group
DESCRIPTION:The Micah group is a gathering of senior-level pastors who meet regularly to build relationships\, encourage one another\, learn from each other and collaborate around an annual community outreach event.The group opens to new pastors annually in the fall of each year. \nContact Dr. Jessica Sanderson if you would like to attend at jessica.sanderson@urbanalliance.com.
URL:https://urbanalliance.com/event/micah-pastors-group-3/2027-01-14/
LOCATION:Urban Alliance\, 62 Village Street\, East Hartford\, CT\, 06108
CATEGORIES:Micah Group,Public Event,UA Network Event
ATTACH;FMTTYPE=image/jpeg:https://urbanalliance.com/wp-content/uploads/2023/06/Untitled-12.jpeg
END:VEVENT
BEGIN:VEVENT
DTSTART;TZID=America/New_York:20270205T114500
DTEND;TZID=America/New_York:20270205T131500
DTSTAMP:20260422T084412
CREATED:20230602T171009Z
LAST-MODIFIED:20251211T190648Z
UID:10000308-1801827900-1801833300@urbanalliance.com
SUMMARY:Monthly Professional Counselor Peer Consultation
DESCRIPTION:For more information\, contact Jessica Sanderson.
URL:https://urbanalliance.com/event/monthly-professional-counselor-peer-consultation/2027-02-05/
LOCATION:Urban Alliance\, 62 Village Street\, East Hartford\, CT\, 06108
CATEGORIES:Charis,Public Event,UA Network Event
ATTACH;FMTTYPE=image/jpeg:https://urbanalliance.com/wp-content/uploads/2023/01/UA-Cal-Charis-Counselors.jpg
END:VEVENT
BEGIN:VEVENT
DTSTART;TZID=America/New_York:20270211T114500
DTEND;TZID=America/New_York:20270211T140000
DTSTAMP:20260422T084412
CREATED:20251211T173641Z
LAST-MODIFIED:20251211T173642Z
UID:10000113-1802346300-1802354400@urbanalliance.com
SUMMARY:Micah Pastors Group
DESCRIPTION:The Micah group is a gathering of senior-level pastors who meet regularly to build relationships\, encourage one another\, learn from each other and collaborate around an annual community outreach event.The group opens to new pastors annually in the fall of each year. \nContact Dr. Jessica Sanderson if you would like to attend at jessica.sanderson@urbanalliance.com.
URL:https://urbanalliance.com/event/micah-pastors-group-3/2027-02-11/
LOCATION:Urban Alliance\, 62 Village Street\, East Hartford\, CT\, 06108
CATEGORIES:Micah Group,Public Event,UA Network Event
ATTACH;FMTTYPE=image/jpeg:https://urbanalliance.com/wp-content/uploads/2023/06/Untitled-12.jpeg
END:VEVENT
BEGIN:VEVENT
DTSTART;TZID=America/New_York:20270305T114500
DTEND;TZID=America/New_York:20270305T131500
DTSTAMP:20260422T084412
CREATED:20230602T171009Z
LAST-MODIFIED:20251211T190648Z
UID:10000309-1804247100-1804252500@urbanalliance.com
SUMMARY:Monthly Professional Counselor Peer Consultation
DESCRIPTION:For more information\, contact Jessica Sanderson.
URL:https://urbanalliance.com/event/monthly-professional-counselor-peer-consultation/2027-03-05/
LOCATION:Urban Alliance\, 62 Village Street\, East Hartford\, CT\, 06108
CATEGORIES:Charis,Public Event,UA Network Event
ATTACH;FMTTYPE=image/jpeg:https://urbanalliance.com/wp-content/uploads/2023/01/UA-Cal-Charis-Counselors.jpg
END:VEVENT
BEGIN:VEVENT
DTSTART;TZID=America/New_York:20270311T114500
DTEND;TZID=America/New_York:20270311T140000
DTSTAMP:20260422T084412
CREATED:20251211T173641Z
LAST-MODIFIED:20251211T173642Z
UID:10000114-1804765500-1804773600@urbanalliance.com
SUMMARY:Micah Pastors Group
DESCRIPTION:The Micah group is a gathering of senior-level pastors who meet regularly to build relationships\, encourage one another\, learn from each other and collaborate around an annual community outreach event.The group opens to new pastors annually in the fall of each year. \nContact Dr. Jessica Sanderson if you would like to attend at jessica.sanderson@urbanalliance.com.
URL:https://urbanalliance.com/event/micah-pastors-group-3/2027-03-11/
LOCATION:Urban Alliance\, 62 Village Street\, East Hartford\, CT\, 06108
CATEGORIES:Micah Group,Public Event,UA Network Event
ATTACH;FMTTYPE=image/jpeg:https://urbanalliance.com/wp-content/uploads/2023/06/Untitled-12.jpeg
END:VEVENT
BEGIN:VEVENT
DTSTART;TZID=America/New_York:20270402T114500
DTEND;TZID=America/New_York:20270402T131500
DTSTAMP:20260422T084412
CREATED:20230602T171009Z
LAST-MODIFIED:20251211T190648Z
UID:10000310-1806666300-1806671700@urbanalliance.com
SUMMARY:Monthly Professional Counselor Peer Consultation
DESCRIPTION:For more information\, contact Jessica Sanderson.
URL:https://urbanalliance.com/event/monthly-professional-counselor-peer-consultation/2027-04-02/
LOCATION:Urban Alliance\, 62 Village Street\, East Hartford\, CT\, 06108
CATEGORIES:Charis,Public Event,UA Network Event
ATTACH;FMTTYPE=image/jpeg:https://urbanalliance.com/wp-content/uploads/2023/01/UA-Cal-Charis-Counselors.jpg
END:VEVENT
BEGIN:VEVENT
DTSTART;TZID=America/New_York:20270408T114500
DTEND;TZID=America/New_York:20270408T140000
DTSTAMP:20260422T084412
CREATED:20251211T173641Z
LAST-MODIFIED:20251211T173642Z
UID:10000115-1807184700-1807192800@urbanalliance.com
SUMMARY:Micah Pastors Group
DESCRIPTION:The Micah group is a gathering of senior-level pastors who meet regularly to build relationships\, encourage one another\, learn from each other and collaborate around an annual community outreach event.The group opens to new pastors annually in the fall of each year. \nContact Dr. Jessica Sanderson if you would like to attend at jessica.sanderson@urbanalliance.com.
URL:https://urbanalliance.com/event/micah-pastors-group-3/2027-04-08/
LOCATION:Urban Alliance\, 62 Village Street\, East Hartford\, CT\, 06108
CATEGORIES:Micah Group,Public Event,UA Network Event
ATTACH;FMTTYPE=image/jpeg:https://urbanalliance.com/wp-content/uploads/2023/06/Untitled-12.jpeg
END:VEVENT
BEGIN:VEVENT
DTSTART;TZID=America/New_York:20270507T114500
DTEND;TZID=America/New_York:20270507T131500
DTSTAMP:20260422T084412
CREATED:20230602T171009Z
LAST-MODIFIED:20251211T190648Z
UID:10000311-1809690300-1809695700@urbanalliance.com
SUMMARY:Monthly Professional Counselor Peer Consultation
DESCRIPTION:For more information\, contact Jessica Sanderson.
URL:https://urbanalliance.com/event/monthly-professional-counselor-peer-consultation/2027-05-07/
LOCATION:Urban Alliance\, 62 Village Street\, East Hartford\, CT\, 06108
CATEGORIES:Charis,Public Event,UA Network Event
ATTACH;FMTTYPE=image/jpeg:https://urbanalliance.com/wp-content/uploads/2023/01/UA-Cal-Charis-Counselors.jpg
END:VEVENT
BEGIN:VEVENT
DTSTART;TZID=America/New_York:20270513T114500
DTEND;TZID=America/New_York:20270513T140000
DTSTAMP:20260422T084412
CREATED:20251211T173641Z
LAST-MODIFIED:20251211T173642Z
UID:10000116-1810208700-1810216800@urbanalliance.com
SUMMARY:Micah Pastors Group
DESCRIPTION:The Micah group is a gathering of senior-level pastors who meet regularly to build relationships\, encourage one another\, learn from each other and collaborate around an annual community outreach event.The group opens to new pastors annually in the fall of each year. \nContact Dr. Jessica Sanderson if you would like to attend at jessica.sanderson@urbanalliance.com.
URL:https://urbanalliance.com/event/micah-pastors-group-3/2027-05-13/
LOCATION:Urban Alliance\, 62 Village Street\, East Hartford\, CT\, 06108
CATEGORIES:Micah Group,Public Event,UA Network Event
ATTACH;FMTTYPE=image/jpeg:https://urbanalliance.com/wp-content/uploads/2023/06/Untitled-12.jpeg
END:VEVENT
BEGIN:VEVENT
DTSTART;TZID=America/New_York:20270604T114500
DTEND;TZID=America/New_York:20270604T131500
DTSTAMP:20260422T084412
CREATED:20230602T171009Z
LAST-MODIFIED:20251211T190648Z
UID:10000312-1812109500-1812114900@urbanalliance.com
SUMMARY:Monthly Professional Counselor Peer Consultation
DESCRIPTION:For more information\, contact Jessica Sanderson.
URL:https://urbanalliance.com/event/monthly-professional-counselor-peer-consultation/2027-06-04/
LOCATION:Urban Alliance\, 62 Village Street\, East Hartford\, CT\, 06108
CATEGORIES:Charis,Public Event,UA Network Event
ATTACH;FMTTYPE=image/jpeg:https://urbanalliance.com/wp-content/uploads/2023/01/UA-Cal-Charis-Counselors.jpg
END:VEVENT
BEGIN:VEVENT
DTSTART;TZID=America/New_York:20270610T114500
DTEND;TZID=America/New_York:20270610T140000
DTSTAMP:20260422T084412
CREATED:20251211T173641Z
LAST-MODIFIED:20251211T173642Z
UID:10000117-1812627900-1812636000@urbanalliance.com
SUMMARY:Micah Pastors Group
DESCRIPTION:The Micah group is a gathering of senior-level pastors who meet regularly to build relationships\, encourage one another\, learn from each other and collaborate around an annual community outreach event.The group opens to new pastors annually in the fall of each year. \nContact Dr. Jessica Sanderson if you would like to attend at jessica.sanderson@urbanalliance.com.
URL:https://urbanalliance.com/event/micah-pastors-group-3/2027-06-10/
LOCATION:Urban Alliance\, 62 Village Street\, East Hartford\, CT\, 06108
CATEGORIES:Micah Group,Public Event,UA Network Event
ATTACH;FMTTYPE=image/jpeg:https://urbanalliance.com/wp-content/uploads/2023/06/Untitled-12.jpeg
END:VEVENT
BEGIN:VEVENT
DTSTART;TZID=America/New_York:20270702T114500
DTEND;TZID=America/New_York:20270702T131500
DTSTAMP:20260422T084412
CREATED:20230602T171009Z
LAST-MODIFIED:20251211T190648Z
UID:10000313-1814528700-1814534100@urbanalliance.com
SUMMARY:Monthly Professional Counselor Peer Consultation
DESCRIPTION:For more information\, contact Jessica Sanderson.
URL:https://urbanalliance.com/event/monthly-professional-counselor-peer-consultation/2027-07-02/
LOCATION:Urban Alliance\, 62 Village Street\, East Hartford\, CT\, 06108
CATEGORIES:Charis,Public Event,UA Network Event
ATTACH;FMTTYPE=image/jpeg:https://urbanalliance.com/wp-content/uploads/2023/01/UA-Cal-Charis-Counselors.jpg
END:VEVENT
BEGIN:VEVENT
DTSTART;TZID=America/New_York:20270708T114500
DTEND;TZID=America/New_York:20270708T140000
DTSTAMP:20260422T084412
CREATED:20251211T173641Z
LAST-MODIFIED:20251211T173642Z
UID:10000118-1815047100-1815055200@urbanalliance.com
SUMMARY:Micah Pastors Group
DESCRIPTION:The Micah group is a gathering of senior-level pastors who meet regularly to build relationships\, encourage one another\, learn from each other and collaborate around an annual community outreach event.The group opens to new pastors annually in the fall of each year. \nContact Dr. Jessica Sanderson if you would like to attend at jessica.sanderson@urbanalliance.com.
URL:https://urbanalliance.com/event/micah-pastors-group-3/2027-07-08/
LOCATION:Urban Alliance\, 62 Village Street\, East Hartford\, CT\, 06108
CATEGORIES:Micah Group,Public Event,UA Network Event
ATTACH;FMTTYPE=image/jpeg:https://urbanalliance.com/wp-content/uploads/2023/06/Untitled-12.jpeg
END:VEVENT
BEGIN:VEVENT
DTSTART;TZID=America/New_York:20270806T114500
DTEND;TZID=America/New_York:20270806T131500
DTSTAMP:20260422T084412
CREATED:20230602T171009Z
LAST-MODIFIED:20251211T190648Z
UID:10000314-1817552700-1817558100@urbanalliance.com
SUMMARY:Monthly Professional Counselor Peer Consultation
DESCRIPTION:For more information\, contact Jessica Sanderson.
URL:https://urbanalliance.com/event/monthly-professional-counselor-peer-consultation/2027-08-06/
LOCATION:Urban Alliance\, 62 Village Street\, East Hartford\, CT\, 06108
CATEGORIES:Charis,Public Event,UA Network Event
ATTACH;FMTTYPE=image/jpeg:https://urbanalliance.com/wp-content/uploads/2023/01/UA-Cal-Charis-Counselors.jpg
END:VEVENT
BEGIN:VEVENT
DTSTART;TZID=America/New_York:20270812T114500
DTEND;TZID=America/New_York:20270812T140000
DTSTAMP:20260422T084412
CREATED:20251211T173641Z
LAST-MODIFIED:20251211T173642Z
UID:10000119-1818071100-1818079200@urbanalliance.com
SUMMARY:Micah Pastors Group
DESCRIPTION:The Micah group is a gathering of senior-level pastors who meet regularly to build relationships\, encourage one another\, learn from each other and collaborate around an annual community outreach event.The group opens to new pastors annually in the fall of each year. \nContact Dr. Jessica Sanderson if you would like to attend at jessica.sanderson@urbanalliance.com.
URL:https://urbanalliance.com/event/micah-pastors-group-3/2027-08-12/
LOCATION:Urban Alliance\, 62 Village Street\, East Hartford\, CT\, 06108
CATEGORIES:Micah Group,Public Event,UA Network Event
ATTACH;FMTTYPE=image/jpeg:https://urbanalliance.com/wp-content/uploads/2023/06/Untitled-12.jpeg
END:VEVENT
BEGIN:VEVENT
DTSTART;TZID=America/New_York:20270903T114500
DTEND;TZID=America/New_York:20270903T131500
DTSTAMP:20260422T084412
CREATED:20230602T171009Z
LAST-MODIFIED:20251211T190648Z
UID:10000315-1819971900-1819977300@urbanalliance.com
SUMMARY:Monthly Professional Counselor Peer Consultation
DESCRIPTION:For more information\, contact Jessica Sanderson.
URL:https://urbanalliance.com/event/monthly-professional-counselor-peer-consultation/2027-09-03/
LOCATION:Urban Alliance\, 62 Village Street\, East Hartford\, CT\, 06108
CATEGORIES:Charis,Public Event,UA Network Event
ATTACH;FMTTYPE=image/jpeg:https://urbanalliance.com/wp-content/uploads/2023/01/UA-Cal-Charis-Counselors.jpg
END:VEVENT
BEGIN:VEVENT
DTSTART;TZID=America/New_York:20270909T114500
DTEND;TZID=America/New_York:20270909T140000
DTSTAMP:20260422T084412
CREATED:20251211T173641Z
LAST-MODIFIED:20251211T173642Z
UID:10000120-1820490300-1820498400@urbanalliance.com
SUMMARY:Micah Pastors Group
DESCRIPTION:The Micah group is a gathering of senior-level pastors who meet regularly to build relationships\, encourage one another\, learn from each other and collaborate around an annual community outreach event.The group opens to new pastors annually in the fall of each year. \nContact Dr. Jessica Sanderson if you would like to attend at jessica.sanderson@urbanalliance.com.
URL:https://urbanalliance.com/event/micah-pastors-group-3/2027-09-09/
LOCATION:Urban Alliance\, 62 Village Street\, East Hartford\, CT\, 06108
CATEGORIES:Micah Group,Public Event,UA Network Event
ATTACH;FMTTYPE=image/jpeg:https://urbanalliance.com/wp-content/uploads/2023/06/Untitled-12.jpeg
END:VEVENT
BEGIN:VEVENT
DTSTART;TZID=America/New_York:20271001T114500
DTEND;TZID=America/New_York:20271001T131500
DTSTAMP:20260422T084412
CREATED:20230602T171009Z
LAST-MODIFIED:20251211T190648Z
UID:10000316-1822391100-1822396500@urbanalliance.com
SUMMARY:Monthly Professional Counselor Peer Consultation
DESCRIPTION:For more information\, contact Jessica Sanderson.
URL:https://urbanalliance.com/event/monthly-professional-counselor-peer-consultation/2027-10-01/
LOCATION:Urban Alliance\, 62 Village Street\, East Hartford\, CT\, 06108
CATEGORIES:Charis,Public Event,UA Network Event
ATTACH;FMTTYPE=image/jpeg:https://urbanalliance.com/wp-content/uploads/2023/01/UA-Cal-Charis-Counselors.jpg
END:VEVENT
BEGIN:VEVENT
DTSTART;TZID=America/New_York:20271014T114500
DTEND;TZID=America/New_York:20271014T140000
DTSTAMP:20260422T084412
CREATED:20251211T173641Z
LAST-MODIFIED:20251211T173642Z
UID:10000121-1823514300-1823522400@urbanalliance.com
SUMMARY:Micah Pastors Group
DESCRIPTION:The Micah group is a gathering of senior-level pastors who meet regularly to build relationships\, encourage one another\, learn from each other and collaborate around an annual community outreach event.The group opens to new pastors annually in the fall of each year. \nContact Dr. Jessica Sanderson if you would like to attend at jessica.sanderson@urbanalliance.com.
URL:https://urbanalliance.com/event/micah-pastors-group-3/2027-10-14/
LOCATION:Urban Alliance\, 62 Village Street\, East Hartford\, CT\, 06108
CATEGORIES:Micah Group,Public Event,UA Network Event
ATTACH;FMTTYPE=image/jpeg:https://urbanalliance.com/wp-content/uploads/2023/06/Untitled-12.jpeg
END:VEVENT
BEGIN:VEVENT
DTSTART;TZID=America/New_York:20271105T114500
DTEND;TZID=America/New_York:20271105T131500
DTSTAMP:20260422T084412
CREATED:20230602T171009Z
LAST-MODIFIED:20251211T190648Z
UID:10000317-1825415100-1825420500@urbanalliance.com
SUMMARY:Monthly Professional Counselor Peer Consultation
DESCRIPTION:For more information\, contact Jessica Sanderson.
URL:https://urbanalliance.com/event/monthly-professional-counselor-peer-consultation/2027-11-05/
LOCATION:Urban Alliance\, 62 Village Street\, East Hartford\, CT\, 06108
CATEGORIES:Charis,Public Event,UA Network Event
ATTACH;FMTTYPE=image/jpeg:https://urbanalliance.com/wp-content/uploads/2023/01/UA-Cal-Charis-Counselors.jpg
END:VEVENT
BEGIN:VEVENT
DTSTART;TZID=America/New_York:20271111T114500
DTEND;TZID=America/New_York:20271111T140000
DTSTAMP:20260422T084412
CREATED:20251211T173641Z
LAST-MODIFIED:20251211T173642Z
UID:10000122-1825933500-1825941600@urbanalliance.com
SUMMARY:Micah Pastors Group
DESCRIPTION:The Micah group is a gathering of senior-level pastors who meet regularly to build relationships\, encourage one another\, learn from each other and collaborate around an annual community outreach event.The group opens to new pastors annually in the fall of each year. \nContact Dr. Jessica Sanderson if you would like to attend at jessica.sanderson@urbanalliance.com.
URL:https://urbanalliance.com/event/micah-pastors-group-3/2027-11-11/
LOCATION:Urban Alliance\, 62 Village Street\, East Hartford\, CT\, 06108
CATEGORIES:Micah Group,Public Event,UA Network Event
ATTACH;FMTTYPE=image/jpeg:https://urbanalliance.com/wp-content/uploads/2023/06/Untitled-12.jpeg
END:VEVENT
BEGIN:VEVENT
DTSTART;TZID=America/New_York:20271203T114500
DTEND;TZID=America/New_York:20271203T131500
DTSTAMP:20260422T084412
CREATED:20230602T171009Z
LAST-MODIFIED:20251211T190648Z
UID:10000318-1827834300-1827839700@urbanalliance.com
SUMMARY:Monthly Professional Counselor Peer Consultation
DESCRIPTION:For more information\, contact Jessica Sanderson.
URL:https://urbanalliance.com/event/monthly-professional-counselor-peer-consultation/2027-12-03/
LOCATION:Urban Alliance\, 62 Village Street\, East Hartford\, CT\, 06108
CATEGORIES:Charis,Public Event,UA Network Event
ATTACH;FMTTYPE=image/jpeg:https://urbanalliance.com/wp-content/uploads/2023/01/UA-Cal-Charis-Counselors.jpg
END:VEVENT
BEGIN:VEVENT
DTSTART;TZID=America/New_York:20271209T114500
DTEND;TZID=America/New_York:20271209T140000
DTSTAMP:20260422T084412
CREATED:20251211T173641Z
LAST-MODIFIED:20251211T173642Z
UID:10000123-1828352700-1828360800@urbanalliance.com
SUMMARY:Micah Pastors Group
DESCRIPTION:The Micah group is a gathering of senior-level pastors who meet regularly to build relationships\, encourage one another\, learn from each other and collaborate around an annual community outreach event.The group opens to new pastors annually in the fall of each year. \nContact Dr. Jessica Sanderson if you would like to attend at jessica.sanderson@urbanalliance.com.
URL:https://urbanalliance.com/event/micah-pastors-group-3/2027-12-09/
LOCATION:Urban Alliance\, 62 Village Street\, East Hartford\, CT\, 06108
CATEGORIES:Micah Group,Public Event,UA Network Event
ATTACH;FMTTYPE=image/jpeg:https://urbanalliance.com/wp-content/uploads/2023/06/Untitled-12.jpeg
END:VEVENT
BEGIN:VEVENT
DTSTART;TZID=America/New_York:20280107T114500
DTEND;TZID=America/New_York:20280107T131500
DTSTAMP:20260422T084412
CREATED:20230602T171009Z
LAST-MODIFIED:20251211T190648Z
UID:10000319-1830858300-1830863700@urbanalliance.com
SUMMARY:Monthly Professional Counselor Peer Consultation
DESCRIPTION:For more information\, contact Jessica Sanderson.
URL:https://urbanalliance.com/event/monthly-professional-counselor-peer-consultation/2028-01-07/
LOCATION:Urban Alliance\, 62 Village Street\, East Hartford\, CT\, 06108
CATEGORIES:Charis,Public Event,UA Network Event
ATTACH;FMTTYPE=image/jpeg:https://urbanalliance.com/wp-content/uploads/2023/01/UA-Cal-Charis-Counselors.jpg
END:VEVENT
END:VCALENDAR