BEGIN:VCALENDAR
VERSION:2.0
PRODID:-//Urban Alliance - ECPv6.15.20//NONSGML v1.0//EN
CALSCALE:GREGORIAN
METHOD:PUBLISH
X-ORIGINAL-URL:https://urbanalliance.com
X-WR-CALDESC:Events for Urban Alliance
REFRESH-INTERVAL;VALUE=DURATION:PT1H
X-Robots-Tag:noindex
X-PUBLISHED-TTL:PT1H
BEGIN:VTIMEZONE
TZID:America/New_York
BEGIN:DAYLIGHT
TZOFFSETFROM:-0500
TZOFFSETTO:-0400
TZNAME:EDT
DTSTART:20250309T070000
END:DAYLIGHT
BEGIN:STANDARD
TZOFFSETFROM:-0400
TZOFFSETTO:-0500
TZNAME:EST
DTSTART:20251102T060000
END:STANDARD
BEGIN:DAYLIGHT
TZOFFSETFROM:-0500
TZOFFSETTO:-0400
TZNAME:EDT
DTSTART:20260308T070000
END:DAYLIGHT
BEGIN:STANDARD
TZOFFSETFROM:-0400
TZOFFSETTO:-0500
TZNAME:EST
DTSTART:20261101T060000
END:STANDARD
BEGIN:DAYLIGHT
TZOFFSETFROM:-0500
TZOFFSETTO:-0400
TZNAME:EDT
DTSTART:20270314T070000
END:DAYLIGHT
BEGIN:STANDARD
TZOFFSETFROM:-0400
TZOFFSETTO:-0500
TZNAME:EST
DTSTART:20271107T060000
END:STANDARD
END:VTIMEZONE
BEGIN:VEVENT
DTSTART;TZID=America/New_York:20260606T093000
DTEND;TZID=America/New_York:20260606T140000
DTSTAMP:20260421T040943
CREATED:20251211T173828Z
LAST-MODIFIED:20251211T173828Z
UID:10000880-1780738200-1780754400@urbanalliance.com
SUMMARY:Community Outreach Day 2026
DESCRIPTION:Share resource guides\, farmers market coupons\, prayer and the love of Christ with Hartford residents.
URL:https://urbanalliance.com/event/community-outreach-day-2026/
LOCATION:CT
CATEGORIES:Community Event,Public Event,Summer of Hope,UA Network Event
ATTACH;FMTTYPE=image/jpeg:https://urbanalliance.com/wp-content/uploads/2025/12/Untitled-8.jpeg
END:VEVENT
END:VCALENDAR